0.5000000000
0.0000000000
0.0000000000
-0.5000000000
441924.8481640741
1491044.2354995757
