0.5000000000
0.0000000000
0.0000000000
-0.5000000000
505078.8481640741
1490737.2354995757
