0.5000000000
0.0000000000
0.0000000000
-0.5000000000
473068.8481640741
1459132.2354995757
