0.5000000000
0.0000000000
0.0000000000
-0.5000000000
600978.8481640741
1458911.2354995757
