0.5000000000
0.0000000000
0.0000000000
-0.5000000000
595914.8481640741
1490882.2354995757
