0.5000000000
0.0000000000
0.0000000000
-0.5000000000
499925.8481640741
1459048.2354995757
