0.5000000000
0.0000000000
0.0000000000
-0.5000000000
526387.8481640741
1458956.2354995757
