0.5000000000
0.0000000000
0.0000000000
-0.5000000000
558365.8481640741
1458973.2354995757
