0.5000000000
0.0000000000
0.0000000000
-0.5000000000
462760.8481640741
1427393.2354995757
