0.5000000000
0.0000000000
0.0000000000
-0.5000000000
457718.8481640741
1491024.2354995757
