0.5000000000
0.0000000000
0.0000000000
-0.5000000000
489397.8481640741
1490799.2354995757
