0.5000000000
0.0000000000
0.0000000000
-0.5000000000
521193.8481640741
1427205.2354995757
