0.5000000000
0.0000000000
0.0000000000
-0.5000000000
584762.8481640741
1427015.2354995757
