0.5000000000
0.0000000000
0.0000000000
-0.5000000000
452393.8481640741
1491033.2354995757
