0.5000000000
0.0000000000
0.0000000000
-0.5000000000
579821.8481640741
1458932.2354995757
