0.5000000000
0.0000000000
0.0000000000
-0.5000000000
515652.8481640741
1427311.2354995757
