0.5000000000
0.0000000000
0.0000000000
-0.5000000000
579490.8481640741
1427103.2354995757
