0.5000000000
0.0000000000
0.0000000000
-0.5000000000
447367.8481640741
1491034.2354995757
