0.5000000000
0.0000000000
0.0000000000
-0.5000000000
574448.8481640741
1458998.2354995757
