0.5000000000
0.0000000000
0.0000000000
-0.5000000000
574280.8481640741
1427020.2354995757
