0.5000000000
0.0000000000
0.0000000000
-0.5000000000
542796.8481640741
1485564.2354995757
