0.5000000000
0.0000000000
0.0000000000
-0.5000000000
574400.8481640741
1485483.2354995757
