0.5000000000
0.0000000000
0.0000000000
-0.5000000000
510416.8481640741
1421865.2354995757
