0.5000000000
0.0000000000
0.0000000000
-0.5000000000
420574.8481640741
1453922.2354995757
