0.5000000000
0.0000000000
0.0000000000
-0.5000000000
515863.8481640741
1421711.2354995757
