0.5000000000
0.0000000000
0.0000000000
-0.5000000000
579398.8481640741
1421725.2354995757
