0.5000000000
0.0000000000
0.0000000000
-0.5000000000
489398.8481640741
1485527.2354995757
