0.5000000000
0.0000000000
0.0000000000
-0.5000000000
425881.8481640741
1453911.2354995757
