0.5000000000
0.0000000000
0.0000000000
-0.5000000000
616862.8481640741
1453585.2354995757
