0.5000000000
0.0000000000
0.0000000000
-0.5000000000
552975.8481640741
1421634.2354995757
