0.5000000000
0.0000000000
0.0000000000
-0.5000000000
558366.8481640741
1485546.2354995757
