0.5000000000
0.0000000000
0.0000000000
-0.5000000000
494403.8481640741
1422081.2354995757
