0.5000000000
0.0000000000
0.0000000000
-0.5000000000
468359.8481640741
1485593.2354995757
