0.5000000000
0.0000000000
0.0000000000
-0.5000000000
531696.8481640741
1485399.2354995757
