0.5000000000
0.0000000000
0.0000000000
-0.5000000000
499933.8481640741
1453890.2354995757
