0.5000000000
0.0000000000
0.0000000000
-0.5000000000
595720.8481640741
1453544.2354995757
