0.5000000000
0.0000000000
0.0000000000
-0.5000000000
436278.8481640741
1422840.2354995757
