0.5000000000
0.0000000000
0.0000000000
-0.5000000000
499884.8481640741
1422051.2354995757
