0.5000000000
0.0000000000
0.0000000000
-0.5000000000
531686.8481640741
1421643.2354995757
