0.5000000000
0.0000000000
0.0000000000
-0.5000000000
563619.8481640741
1421736.2354995757
