0.5000000000
0.0000000000
0.0000000000
-0.5000000000
569309.8481640741
1485615.2354995757
