0.5000000000
0.0000000000
0.0000000000
-0.5000000000
441762.8481640741
1453790.2354995757
