0.5000000000
0.0000000000
0.0000000000
-0.5000000000
536991.8481640741
1453630.2354995757
