0.5000000000
0.0000000000
0.0000000000
-0.5000000000
536667.8481640741
1421830.2354995757
