0.5000000000
0.0000000000
0.0000000000
-0.5000000000
408008.8481640741
1417866.2354995757
