0.5000000000
0.0000000000
0.0000000000
-0.5000000000
441601.8481640741
1417518.2354995757
