0.5000000000
0.0000000000
0.0000000000
-0.5000000000
473328.8481640741
1417206.2354995757
