0.5000000000
0.0000000000
0.0000000000
-0.5000000000
568935.8481640741
1416565.2354995757
