0.5000000000
0.0000000000
0.0000000000
-0.5000000000
563468.8481640741
1448892.2354995757
