0.5000000000
0.0000000000
0.0000000000
-0.5000000000
595686.8481640741
1448235.2354995757
